BEGIN:VCALENDAR
VERSION:2.0
PRODID:-//hacksw/handcal//NONSGML v1.0//EN
METHOD:PUBLISH
BEGIN:VEVENT
UID:0934f374d8810dbc4b5cfbf59bb40e48@www.eduzone.cz
DTSTAMP:20260421T155020Z
DTSTART;VALUE=DATE:20260619
DTEND;VALUE=DATE:20260620
ORGANIZER:MAILTO:info@eduzone.cz
LOCATION:Jurys Inn Hotel Prague****\; Sokolovská 11\, Praha 8\, 18600
SUMMARY:Copilot: Bezpečná umělá inteligence\, kterou už ve firmě mát
	e\, jen to nevíte
URL:https://www.eduzone.cz/seminar/copilot-bezpecna-umela-inteligence-ktero
	u-uz-ve-firme-mate-jen-to-nevite
END:VEVENT
END:VCALENDAR
