BEGIN:VCALENDAR
VERSION:2.0
PRODID:-//hacksw/handcal//NONSGML v1.0//EN
METHOD:PUBLISH
BEGIN:VEVENT
UID:abeda0bbe9eb6c6218d734182553ae54@www.eduzone.cz
DTSTAMP:20260420T152729Z
DTSTART;VALUE=DATE:20261111
DTEND;VALUE=DATE:20261112
ORGANIZER:MAILTO:info@eduzone.cz
LOCATION:Jurys Inn Hotel Prague****\; Sokolovská 11\, Praha 8\, 18600
SUMMARY:Jak neskončit u soudu – Adjudikace dle FIDIC
URL:https://www.eduzone.cz/seminar/jak-neskoncit-u-soudu-adjudikace-dle-fid
	ic
END:VEVENT
END:VCALENDAR
