BEGIN:VCALENDAR
VERSION:2.0
PRODID:-//hacksw/handcal//NONSGML v1.0//EN
METHOD:PUBLISH
BEGIN:VEVENT
UID:5f62c475875ad46f06d85b9e87b798d7@www.eduzone.cz
DTSTAMP:20260422T101338Z
DTSTART;VALUE=DATE:20260428
DTEND;VALUE=DATE:20260429
ORGANIZER:MAILTO:info@eduzone.cz
LOCATION:Jurys Inn Hotel Prague****\; Sokolovská 11\, Praha 8\, 18600
SUMMARY:Jak využívat kontrolní vazby v účetnictví
URL:https://www.eduzone.cz/seminar/jak-vyuzivat-kontrolni-vazby
END:VEVENT
END:VCALENDAR
