BEGIN:VCALENDAR
VERSION:2.0
PRODID:-//hacksw/handcal//NONSGML v1.0//EN
METHOD:PUBLISH
BEGIN:VEVENT
UID:92f0f7af5684731b90431a481ea3420b@www.eduzone.cz
DTSTAMP:20260423T115032Z
DTSTART;VALUE=DATE:20260526
DTEND;VALUE=DATE:20260527
ORGANIZER:MAILTO:info@eduzone.cz
LOCATION:Jurys Inn Hotel Prague****\; Sokolovská 11\, Praha 8\, 18600
SUMMARY:Zabezpečení osobních údajů a novinky v GDPR v roce 2026
URL:https://www.eduzone.cz/seminar/zabezpeceni-osobnich-udaju-a-jine-povinn
	osti-podle-gdpr
END:VEVENT
END:VCALENDAR
